
BEGIN:VCALENDAR
VERSION:2.0
PRODID:-//Lobster e.V. - ECPv6.15.20//NONSGML v1.0//EN
CALSCALE:GREGORIAN
METHOD:PUBLISH
X-WR-CALNAME:Lobster e.V.
X-ORIGINAL-URL:https://www.tclobster.de
X-WR-CALDESC:Veranstaltungen für Lobster e.V.
REFRESH-INTERVAL;VALUE=DURATION:PT1H
X-Robots-Tag:noindex
X-PUBLISHED-TTL:PT1H
BEGIN:VTIMEZONE
TZID:Europe/Berlin
BEGIN:DAYLIGHT
TZOFFSETFROM:+0100
TZOFFSETTO:+0200
TZNAME:CEST
DTSTART:20250330T010000
END:DAYLIGHT
BEGIN:STANDARD
TZOFFSETFROM:+0200
TZOFFSETTO:+0100
TZNAME:CET
DTSTART:20251026T010000
END:STANDARD
BEGIN:DAYLIGHT
TZOFFSETFROM:+0100
TZOFFSETTO:+0200
TZNAME:CEST
DTSTART:20260329T010000
END:DAYLIGHT
BEGIN:STANDARD
TZOFFSETFROM:+0200
TZOFFSETTO:+0100
TZNAME:CET
DTSTART:20261025T010000
END:STANDARD
BEGIN:DAYLIGHT
TZOFFSETFROM:+0100
TZOFFSETTO:+0200
TZNAME:CEST
DTSTART:20270328T010000
END:DAYLIGHT
BEGIN:STANDARD
TZOFFSETFROM:+0200
TZOFFSETTO:+0100
TZNAME:CET
DTSTART:20271031T010000
END:STANDARD
END:VTIMEZONE
BEGIN:VEVENT
DTSTART;TZID=Europe/Berlin:20260522T150000
DTEND;TZID=Europe/Berlin:20260526T200000
DTSTAMP:20260420T185304
CREATED:20260302T062451Z
LAST-MODIFIED:20260302T073920Z
UID:1056-1779462000-1779825600@www.tclobster.de
SUMMARY:Jugendtauchfahrt Horka 2026
DESCRIPTION:Zu Pfingsten ist es wieder soweit: Wir starten die Freiwassersaison für Kids & Jugendliche mit einer Fahrt zum Tauchsee Horka\, und das mit einem richtig langen 4 1/2 Tage-Wochenende. Alle Taucher & Nicht-Taucher\, die sicher schwimmen können\, dürfen teilnehmen. \nDetails und Anmeldung siehe Ausschreibung Jugendfahrt Horka 2026.
URL:https://www.tclobster.de/event/jugendtauchfahrt-horka-2026/
LOCATION:Tauchsee Horka\, Steinbruch 9\, Crostwitz\, 01920\, Deutschland
END:VEVENT
END:VCALENDAR