
BEGIN:VCALENDAR
VERSION:2.0
PRODID:-//Lobster e.V. - ECPv6.15.20//NONSGML v1.0//EN
CALSCALE:GREGORIAN
METHOD:PUBLISH
X-ORIGINAL-URL:https://www.tclobster.de
X-WR-CALDESC:Veranstaltungen für Lobster e.V.
REFRESH-INTERVAL;VALUE=DURATION:PT1H
X-Robots-Tag:noindex
X-PUBLISHED-TTL:PT1H
BEGIN:VTIMEZONE
TZID:Europe/Berlin
BEGIN:DAYLIGHT
TZOFFSETFROM:+0100
TZOFFSETTO:+0200
TZNAME:CEST
DTSTART:20180325T010000
END:DAYLIGHT
BEGIN:STANDARD
TZOFFSETFROM:+0200
TZOFFSETTO:+0100
TZNAME:CET
DTSTART:20181028T010000
END:STANDARD
BEGIN:DAYLIGHT
TZOFFSETFROM:+0100
TZOFFSETTO:+0200
TZNAME:CEST
DTSTART:20190331T010000
END:DAYLIGHT
BEGIN:STANDARD
TZOFFSETFROM:+0200
TZOFFSETTO:+0100
TZNAME:CET
DTSTART:20191027T010000
END:STANDARD
BEGIN:DAYLIGHT
TZOFFSETFROM:+0100
TZOFFSETTO:+0200
TZNAME:CEST
DTSTART:20200329T010000
END:DAYLIGHT
BEGIN:STANDARD
TZOFFSETFROM:+0200
TZOFFSETTO:+0100
TZNAME:CET
DTSTART:20201025T010000
END:STANDARD
BEGIN:DAYLIGHT
TZOFFSETFROM:+0100
TZOFFSETTO:+0200
TZNAME:CEST
DTSTART:20210328T010000
END:DAYLIGHT
BEGIN:STANDARD
TZOFFSETFROM:+0200
TZOFFSETTO:+0100
TZNAME:CET
DTSTART:20211031T010000
END:STANDARD
BEGIN:DAYLIGHT
TZOFFSETFROM:+0100
TZOFFSETTO:+0200
TZNAME:CEST
DTSTART:20220327T010000
END:DAYLIGHT
BEGIN:STANDARD
TZOFFSETFROM:+0200
TZOFFSETTO:+0100
TZNAME:CET
DTSTART:20221030T010000
END:STANDARD
BEGIN:DAYLIGHT
TZOFFSETFROM:+0100
TZOFFSETTO:+0200
TZNAME:CEST
DTSTART:20230326T010000
END:DAYLIGHT
BEGIN:STANDARD
TZOFFSETFROM:+0200
TZOFFSETTO:+0100
TZNAME:CET
DTSTART:20231029T010000
END:STANDARD
BEGIN:DAYLIGHT
TZOFFSETFROM:+0100
TZOFFSETTO:+0200
TZNAME:CEST
DTSTART:20240331T010000
END:DAYLIGHT
BEGIN:STANDARD
TZOFFSETFROM:+0200
TZOFFSETTO:+0100
TZNAME:CET
DTSTART:20241027T010000
END:STANDARD
BEGIN:DAYLIGHT
TZOFFSETFROM:+0100
TZOFFSETTO:+0200
TZNAME:CEST
DTSTART:20250330T010000
END:DAYLIGHT
BEGIN:STANDARD
TZOFFSETFROM:+0200
TZOFFSETTO:+0100
TZNAME:CET
DTSTART:20251026T010000
END:STANDARD
BEGIN:DAYLIGHT
TZOFFSETFROM:+0100
TZOFFSETTO:+0200
TZNAME:CEST
DTSTART:20260329T010000
END:DAYLIGHT
BEGIN:STANDARD
TZOFFSETFROM:+0200
TZOFFSETTO:+0100
TZNAME:CET
DTSTART:20261025T010000
END:STANDARD
END:VTIMEZONE
BEGIN:VEVENT
DTSTART;TZID=Europe/Berlin:20251002T160000
DTEND;TZID=Europe/Berlin:20251005T180000
DTSTAMP:20260420T133121
CREATED:20250901T044014Z
LAST-MODIFIED:20250901T044014Z
UID:1041-1759420800-1759687200@www.tclobster.de
SUMMARY:Jugendtauchfahrt nach Ammelshain 2025
DESCRIPTION:Hallo Garnelen\, über den Tag der deutschen Einheit fahren wir zum Steinbruchsee im Tauch- und Naturschutzzentrum Ammelshain (TANA). \nAusschreibung Jugendfahrt Ammelshain 2025
URL:https://www.tclobster.de/event/jugendtauchfahrt-nach-ammelshain-2025/
LOCATION:TANA Ammelshain\, Altenhainer Str. 16\, Naunhof\, 04683
CATEGORIES:Jugend
END:VEVENT
BEGIN:VEVENT
DTSTART;TZID=Europe/Berlin:20250822T160000
DTEND;TZID=Europe/Berlin:20250824T150000
DTSTAMP:20260420T133121
CREATED:20250516T054616Z
LAST-MODIFIED:20250516T054651Z
UID:1027-1755878400-1756047600@www.tclobster.de
SUMMARY:Vereinsfahrt zur Sandersdorfer Förstergrube
DESCRIPTION:Hallo zusammen\, \nwir fahren am Ende der Sommerferien nach Sandersdorf\, um in der Förstergrube zu tauchen. Wer mitfahren möchte\, liest die Ausschreibung Sandersdorf 2025.
URL:https://www.tclobster.de/event/vereinsfahrt-zur-sandersdorfer-foerstergrube/
LOCATION:Campingplatz & Strandbad Sandersdorf\, Zörbiger Str. 20\, Sandersdorf-Brehna\, 06792
END:VEVENT
BEGIN:VEVENT
DTSTART;VALUE=DATE:20250731
DTEND;VALUE=DATE:20250805
DTSTAMP:20260420T133121
CREATED:20250322T110151Z
LAST-MODIFIED:20250322T110151Z
UID:1025-1753920000-1754351999@www.tclobster.de
SUMMARY:Vereinsfahrt Gamle Albo 2025
DESCRIPTION:Ausschreibung folgt
URL:https://www.tclobster.de/event/vereinsfahrt-gamle-albo-2025/
LOCATION:Gamle Albo Camping\, Gl. Ålbovej 30\, Sdr. Stenderup\, 6092\, Dänemark
END:VEVENT
BEGIN:VEVENT
DTSTART;TZID=Europe/Berlin:20250524T100000
DTEND;TZID=Europe/Berlin:20250525T170000
DTSTAMP:20260420T133121
CREATED:20250322T110009Z
LAST-MODIFIED:20250322T110009Z
UID:1022-1748080800-1748192400@www.tclobster.de
SUMMARY:AK Orientierung beim Tauchen
DESCRIPTION:Kursziel\nErwerb Brevet für Aufbaukurs Orientierung beim Tauchen (Voraussetzung für GDL**/CMAS**) \nAusschreibung folgt.
URL:https://www.tclobster.de/event/ak-orientierung-beim-tauchen/
LOCATION:Glienicker See\, Pferdekoppel\, EU-Badestelle Pferdekoppel\, Berlin\, 14089\, Deutschland
END:VEVENT
BEGIN:VEVENT
DTSTART;TZID=Europe/Berlin:20250430T170000
DTEND;TZID=Europe/Berlin:20250504T180000
DTSTAMP:20260420T133121
CREATED:20250316T095415Z
LAST-MODIFIED:20250316T095637Z
UID:1014-1746032400-1746381600@www.tclobster.de
SUMMARY:Jugendtauchfahrt Nordhausen 2025
DESCRIPTION:Vom 30.04.-04.05.2025 fahren wir zum Sundhäuser See nach Nordhausen. \n\n\n\nDie Fahrt beinhaltet – wie immer – Fahrtkosten\, Übernachtung\, Ausrüstung\, Luft und Verpflegung. \n\n\n\nDie Details entnehmt ihr der Ausschreibung Jugendfahrt Nordhausen 2025.
URL:https://www.tclobster.de/event/jugendtauchfahrt-nordhausen-2025/
LOCATION:Actionsport Tauchsportzentrum Nordhausen\, Uthleber Weg 27\, Nordhausen\, 99734\, Deutschland
END:VEVENT
BEGIN:VEVENT
DTSTART;TZID=Europe/Berlin:20250423T110000
DTEND;TZID=Europe/Berlin:20250423T170000
DTSTAMP:20260420T133121
CREATED:20250115T145418Z
LAST-MODIFIED:20250115T145418Z
UID:1006-1745406000-1745427600@www.tclobster.de
SUMMARY:Garnele spielt Poolbillard
DESCRIPTION:Wer hat Interesse die Sportart Poolbillard mal kennen zu lernen? Ihr habt die Möglichkeit auf professionellen Billardtischen diesen Sport auszuprobieren\, und zwar im Vereinsheim der PBC Buffalos e.V. \nWir lernen unter fachkundiger Anleitung Regelwerk\, Basics und Techniken dieses Sports. Gemeinsame An- und Abfahrt\, sowie Mittagessen. \nNäheres entnehmt ihr bitte der Ausschreibung Billard 2025.
URL:https://www.tclobster.de/event/garnele-spielt-poolbillard/
LOCATION:PBC Buffalos e.V.\, Berliner Straße 39\, Berlin\, 13507\, Deutschland
END:VEVENT
BEGIN:VEVENT
DTSTART;TZID=Europe/Berlin:20241214T163000
DTEND;TZID=Europe/Berlin:20241214T193000
DTSTAMP:20260420T133121
CREATED:20241120T111552Z
LAST-MODIFIED:20241120T111552Z
UID:990-1734193800-1734204600@www.tclobster.de
SUMMARY:Weihnachts-Bouldern Jugend 2024
DESCRIPTION:Vor Weihnachten nochmal so richtig abhängen? Klar\, mit der Garnele in der Cliffhanger Boulderlounge in Spandau. \nDetails & Anmeldung hier Ausschreibung Weihnachtsfeier 2024
URL:https://www.tclobster.de/event/weihnachts-bouldern-jugend-2024/
LOCATION:Cliffhanger Spandau\, Telegrafenweg 21\, Berlin\, Berlin\, 13599\, Germany
END:VEVENT
BEGIN:VEVENT
DTSTART;TZID=Europe/Berlin:20241003T060000
DTEND;TZID=Europe/Berlin:20241006T200000
DTSTAMP:20260420T133121
CREATED:20240714T090028Z
LAST-MODIFIED:20240714T090028Z
UID:963-1727935200-1728244800@www.tclobster.de
SUMMARY:Jugendtauchfahrt Kreidesee Hemmoor 2024
DESCRIPTION:Vom 03.10.-06.10.2024 fahren wir mit dem DUC zusammen zum Kreidesee Hemmoor. \n\n\n\nDie Fahrt beinhaltet – wie immer – Fahrtkosten\, Übernachtung\, Ausrüstung\, Luft und Verpflegung. \n\n\n\nDie Details entnehmt ihr der Ausschreibung. \n\n\n\nZusätzlich gelten die Tauchregeln Kinder- und Jugendtauchen der Tauchbasis Kreideseetaucher.
URL:https://www.tclobster.de/event/jugendtauchfahrt-kreidesee-hemmoor-2024/
LOCATION:Kreidesee Hemmoor\, Cuxhavener Str. 1\, Hemmoor\, 21745\, Deutschland
END:VEVENT
BEGIN:VEVENT
DTSTART;TZID=Europe/Berlin:20240517T150000
DTEND;TZID=Europe/Berlin:20240520T190000
DTSTAMP:20260420T133121
CREATED:20240405T111138Z
LAST-MODIFIED:20240405T111138Z
UID:942-1715958000-1716231600@www.tclobster.de
SUMMARY:Jugendtauchfahrt Thomsdorf 2024
DESCRIPTION:Vom 17.05.-20.05.2024 fahren wir mit dem DUC zusammen in die Feldberger Seenlandschaft. \nDie Fahrt beinhaltet – wie immer – Fahrtkosten\, Übernachtung\, Ausrüstung\, Luft und Verpflegung. \nDie Details entnehmt ihr der Ausschreibung Jugendfahrt Thomsdorf 2024.
URL:https://www.tclobster.de/event/jugendtauchfahrt-thomsdorf-2024/
LOCATION:Haus Sommerland\, Thomsdorf Sommerland 1\, Boitzenburger Land\, 17268
END:VEVENT
BEGIN:VEVENT
DTSTART;TZID=Europe/Berlin:20231118T160000
DTEND;TZID=Europe/Berlin:20231118T183000
DTSTAMP:20260420T133121
CREATED:20231021T123225Z
LAST-MODIFIED:20231021T123225Z
UID:935-1700323200-1700332200@www.tclobster.de
SUMMARY:Garnele spielt Lasertag
DESCRIPTION:Unsere Jugendsprecher haben das erste Event für euch organisiert – Lasertag. Anschließend gibt’s noch Kulinarisches im MediTat. \nAnmeldeschluss ist der 8.11.2023\, Anmeldung hier.
URL:https://www.tclobster.de/event/garnele-spielt-lasertag/
LOCATION:Lasergame Berlin\, Nordhauser Straße 26\, Berlin\, 10589\, Deutschland
END:VEVENT
BEGIN:VEVENT
DTSTART;TZID=Europe/Berlin:20230929T150000
DTEND;TZID=Europe/Berlin:20231003T180000
DTSTAMP:20260420T133121
CREATED:20230114T151212Z
LAST-MODIFIED:20230910T071639Z
UID:841-1695999600-1696356000@www.tclobster.de
SUMMARY:Jugendtauchfahrt zum Tauchsee Horka
DESCRIPTION:Vom 29.9-3.10. fahren wir mit dem DUC zusammen an den Tauchsee Horka\, in dem es sich prima tauchen & schnorcheln lässt. Für alle CMAS * Kandidaten können weitere Prüfungstauchgänge abgelegt werden. \nDie Fahrt beinhaltet – wie immer – Fahrtkosten\, Übernachtung\, Ausrüstung\, Luft und Verpflegung. \nDie Details entnehmt ihr der Ausschreibung Jugendfahrt Horka 2023
URL:https://www.tclobster.de/event/jugendtauchfahrt-horka-2023/
LOCATION:Tauchsee Horka\, Steinbruch 9\, Crostwitz\, 01920\, Deutschland
END:VEVENT
BEGIN:VEVENT
DTSTART;TZID=Europe/Berlin:20230517T150000
DTEND;TZID=Europe/Berlin:20230521T200000
DTSTAMP:20260420T133121
CREATED:20230114T150934Z
LAST-MODIFIED:20230210T122221Z
UID:837-1684335600-1684699200@www.tclobster.de
SUMMARY:Jugendtauchfahrt nach Gamle Aalbo\, Dänemark
DESCRIPTION:Tauchen am kleinen Belt mit viel Fisch. Hier könnt ihr Salzwasser und Strömung schnuppern. \nAusschreibung hier: Ausschreibung Jugendfahrt Gammel Albo 2023 \nACHTUNG: Aufgrund längerer Vorlaufzeiten bei der Reservierung des Campingplatzes ist Anmeldeschluss am 19.03.2023.
URL:https://www.tclobster.de/event/jugendtauchfahrt-nach-gamle-aalbo-daenemark/
LOCATION:Gamle Albo Camping\, Gl. Ålbovej 30\, Sdr. Stenderup\, 6092\, Dänemark
END:VEVENT
BEGIN:VEVENT
DTSTART;TZID=Europe/Berlin:20230506T090000
DTEND;TZID=Europe/Berlin:20230507T180000
DTSTAMP:20260420T133121
CREATED:20230308T084855Z
LAST-MODIFIED:20230308T084928Z
UID:872-1683363600-1683482400@www.tclobster.de
SUMMARY:GDL** / DTSA** Theorie
DESCRIPTION:Kursziel: Erwerb der/des GDL** / DTSA** \n Zielgruppe: Inhaber des der/des GDL* / DTSA* oder äquivalentes Brevet \nOrt : Noch offen\, wird noch festgelegt \nTermin: Vorbereitung Samstag\, 06.05.2023 9:00–18:00 Uhr & Sonntag\, 07.05.2023 9:00–14:30 UhrPrüfung: Sonntag\, 07.05.2023 15:00–18:00 Uhr \n\nAusschreibung hier: GDL DTSA Silber zwei Stern Theorie
URL:https://www.tclobster.de/event/gdl-dtsa-theorie-2/
END:VEVENT
BEGIN:VEVENT
DTSTART;TZID=Europe/Berlin:20230422T090000
DTEND;TZID=Europe/Berlin:20230423T180000
DTSTAMP:20260420T133121
CREATED:20230308T084645Z
LAST-MODIFIED:20230308T084835Z
UID:867-1682154000-1682272800@www.tclobster.de
SUMMARY:GDL * / DTSA * Theorie
DESCRIPTION:Kursziel: Erwerb der/des GDL* / DTSA* \n Zielgruppe: Anfänger und Interessenten \nOrt : Noch offen\, wird noch festgelegt \nTermin: Vorbereitung Samstag\, 22.04.2023 9:00–18:00 Uhr & Sonntag\, 23.04.2023 9:00–14:30 UhrPrüfung: Sonntag\, 23.04.2023 15:00–18:00 Uhr \n\nAusschreibung hier: GDL DTSA bronze ein Stern Theorie
URL:https://www.tclobster.de/event/gdl-dtsa-theorie/
ORGANIZER;CN="Thomas Waletzki":MAILTO:lobster@waletzki.eu
END:VEVENT
BEGIN:VEVENT
DTSTART;TZID=Europe/Berlin:20230226T180000
DTEND;TZID=Europe/Berlin:20230226T193000
DTSTAMP:20260420T133121
CREATED:20230211T113135Z
LAST-MODIFIED:20230211T113219Z
UID:855-1677434400-1677439800@www.tclobster.de
SUMMARY:Gerätetraining Jugend
DESCRIPTION:Erstes Gerätetraining in 2023 findet statt! Einkleiden ist um 16:30 Uhr am Geräteraum. \nGleichzeitig probieren wir auch die Anzüge für die Tauchfahrt nach Gammel Albo an.
URL:https://www.tclobster.de/event/geraetetraining-jugend-2023-02-26/
LOCATION:Stadtbad Spandau-Süd\, Gatower Str. 19\, Berlin\, 13595\, Deutschland
END:VEVENT
BEGIN:VEVENT
DTSTART;TZID=Europe/Berlin:20230224T170000
DTEND;TZID=Europe/Berlin:20230224T190000
DTSTAMP:20260420T133121
CREATED:20230114T151516Z
LAST-MODIFIED:20230114T151516Z
UID:845-1677258000-1677265200@www.tclobster.de
SUMMARY:Pool Billard & Pizza
DESCRIPTION:Zum Start in das neue Jahr gehen wir es gemütlich an – mit ein paar Runden PoolBillard.Wir spielen im Billard Salon Pool Position in Spandau und nach der Anstrengung gibt’seine Pizza und ein Softgetränk für Jeden. \nAusschreibung & Anmeldung –> Ausschreibung Billard 2023 \n 
URL:https://www.tclobster.de/event/pool-billard-pizza/
LOCATION:Pool Position Spandau\, Am Juliusturm 31\, Berlin\, 13599\, Deutschland
END:VEVENT
BEGIN:VEVENT
DTSTART;TZID=Europe/Berlin:20220909T150000
DTEND;TZID=Europe/Berlin:20220911T200000
DTSTAMP:20260420T133121
CREATED:20220802T124544Z
LAST-MODIFIED:20220802T124620Z
UID:812-1662735600-1662926400@www.tclobster.de
SUMMARY:Jugend-Tauchfahrt zum Dreetzsee
DESCRIPTION:Der Dreetzsee liegt südlich von Feldberg\, mitten im eiszeitlich geprägten Naturpark Feldberger Seenlandschaft. Der Grund des ca. 10m tiefen Dreetzsees ist schön und großflächig bewachsen.\nIn direkter Nachbarschaft befinden sich weitere tolle Seen\, wie z.B. der Schmale Luzin oder der Carwitzer See. \nWir fahren zusammen mit dem DUC nach Feldberg und werden ein ganzes Wochenende tauchen\, grillen & chillen. \nDetails siehe Ausschreibung Jugendfahrt Dreetzsee 2022
URL:https://www.tclobster.de/event/jugend-tauchfahrt-zum-dreetzsee/
LOCATION:Campingplatz Dreetzsee\, Am Dreetzsee 1\, Boitzenburger Land\, 17268\, Deutschland
CATEGORIES:Aktivität,Jugend
END:VEVENT
BEGIN:VEVENT
DTSTART;TZID=Europe/Berlin:20220710T150000
DTEND;TZID=Europe/Berlin:20220710T210000
DTSTAMP:20260420T133121
CREATED:20220705T134031Z
LAST-MODIFIED:20220705T134031Z
UID:809-1657465200-1657486800@www.tclobster.de
SUMMARY:Sommerfest 2022
DESCRIPTION:Zum diesjährigen LOBSTER-Sommerfest laden wir am 10.07.2022 an die Pferdekoppel am Groß Glienicker See\, Uferpromenade\, ein. Wir treffen uns dort wieder zu einem sommerlichen Picknick am Sonntag ab 15 Uhr. Der Treffpunkt ist in der beigefügten Karte gekennzeichnet. Toiletten sind dort vorhanden. \nWem das Wasser nass zu nass ist\, der bleibt an Land\, genießt das Picknick\, quatscht und spielt. Wen das Gewässer lockt\, der planscht/schwimmt im Wasser – oder unternimmt zusammen mit anderen LOBSTERaner(innen) einen Tauchgang. \nBringt daher\, wenn Ihr tauchen/schnorcheln wollt\, Eure Ausrüstung zum Picknick mit. \nFür das Picknick-Buffet bringt bitte die Menge an Getränken und Speisen mit\, die Eurem eigenen Verzehr entspricht. Wichtig: Grillen ist dort nicht erlaubt! \nEs wäre schön\, wenn Ihr auch Campingtische und -stühle\, Picknickdecken\, Spielgerätschaften\, Mülltüten etc. mitbringen könntet. Über Eure Rückäußerung\, ob und zu wievielt Ihr kommt\, würden wir uns freuen.
URL:https://www.tclobster.de/event/sommerfest-2022/
LOCATION:Glienicker See\, Pferdekoppel\, EU-Badestelle Pferdekoppel\, Berlin\, 14089\, Deutschland
CATEGORIES:Aktivität
END:VEVENT
BEGIN:VEVENT
DTSTART;TZID=Europe/Berlin:20220624T150000
DTEND;TZID=Europe/Berlin:20220626T200000
DTSTAMP:20260420T133121
CREATED:20220326T070107Z
LAST-MODIFIED:20220327T124635Z
UID:797-1656082800-1656273600@www.tclobster.de
SUMMARY:Jugend-Tauchfahrt zum Sundhäuser See
DESCRIPTION:Im Sundhäuser See erwarten euch einige Attraktionen\, unter anderem eine versunkene Stadt\, wundervoller Pflanzenbewuchs\, der bis in Tiefen von 20 m reichen kann. Bereits in einer Tiefe von zwei Metern schwimmen die ersten Schwärme von Barschen. Hechte\, große Spiegelkarpfen\, Aale\, Regenbogenforellen\, Rotfedern\, Zander\, Grünlinge\, Bleien und Krebse kann man mit etwas Glück antreffen. \nWir fahren zusammen mit dem DUC nach Nordhausen und werden ein ganzes Wochenende tauchen\, grillen & chillen. \nDetails siehe Ausschreibung Jugendfahrt Nordhausen 2022
URL:https://www.tclobster.de/event/jugend-tauchfahrt-zum-sundhaeuser-see/
LOCATION:Actionsport Tauchsportzentrum Nordhausen\, Uthleber Weg 27\, Nordhausen\, 99734\, Deutschland
CATEGORIES:Jugend
ATTACH;FMTTYPE=image/jpeg:https://www.tclobster.de/content/wp-content/uploads/2017/10/taucher-im-wasser.jpg
END:VEVENT
BEGIN:VEVENT
DTSTART;TZID=Europe/Berlin:20220424T180000
DTEND;TZID=Europe/Berlin:20220424T190000
DTSTAMP:20260420T133121
CREATED:20220402T082012Z
LAST-MODIFIED:20220402T082012Z
UID:802-1650823200-1650826800@www.tclobster.de
SUMMARY:Kindertauchabzeichen 2022
DESCRIPTION:Tauchen ist ein Naturerlebnis besonderer Art. \nDer Mensch begibt sich beim Tauchen in eine Welt\, für die sein Körper\, seine Psyche uns seine Erfahrungen nicht geschaffen sind. Um sich in dieser „fremden“ Welt zurecht zu finden\, ist es wichtig\, eine gute Ausbildung zu bekommen. \nGerade für Kinder ist Tauchen mit dieser Mischung aus Naturerlebnis\, Technik und Abenteuer ein idealer Sport. Durch die Vermittlung von Erfolgserlebnissen wird das Selbstvertrauen gefördert. \nWichtig ist\, die Risiken\, die für das Kindertauchen kennzeichnend sind\, auszuschalten. Dafür stehen wir unserer über 30-jährigen Erfahrung im Jugendausbildungsbereich ein. \nDie notwendigen Geräte (Presslufttauchgerät\, Atemregler und Weste) stellen wir. \nDer Kurs umfasst eine Hallenausbildung mit ABC (Maske\, Flossen\, Schnorchel) und mit Tauchgerät sowie die Theorie (KTSA Bronze/Silber) und die nötigen Tauchgänge in der Schwimmhalle und im Freiwasser. \nKursdauer ist vom 24.04.2022 bis zu den Sommerferien. \nDetails entnehmt ihr bitte der Anmeldung zum KTSA 2022.
URL:https://www.tclobster.de/event/kindertauchabzeichen-2022/
LOCATION:Stadtbad Spandau-Süd\, Gatower Str. 19\, Berlin\, 13595\, Deutschland
CATEGORIES:Ausbildung,Jugend
ATTACH;FMTTYPE=image/jpeg:https://www.tclobster.de/content/wp-content/uploads/2019/06/IMG_20190530_111658.jpg
END:VEVENT
BEGIN:VEVENT
DTSTART;TZID=Europe/Berlin:20220409T093000
DTEND;TZID=Europe/Berlin:20220410T180000
DTSTAMP:20260420T133121
CREATED:20220118T064153Z
LAST-MODIFIED:20220118T064238Z
UID:785-1649496600-1649613600@www.tclobster.de
SUMMARY:CMAS / GDL * Theorie
DESCRIPTION:Auch in diesem Jahr findet ein Theoriekurs inkl. Prüfung zum Erwerb des CMAS / GDL * Brevets statt. \nDetails siehe GDL DTSA Theorie 2022 Ausschreibung.
URL:https://www.tclobster.de/event/cmas-gdl-theorie/
LOCATION:smb Seemannschaft Berlin\, Am Pichelssee 7\, Berlin\, Berlin\, 13595\, Deutschland
END:VEVENT
BEGIN:VEVENT
DTSTART;TZID=Europe/Berlin:20211218T100000
DTEND;TZID=Europe/Berlin:20211218T140000
DTSTAMP:20260420T133121
CREATED:20211110T091518Z
LAST-MODIFIED:20211128T081850Z
UID:772-1639821600-1639836000@www.tclobster.de
SUMMARY:[verschoben] - Weihnachts-Billard der Garnele
DESCRIPTION:Aus Pandemie-Gründen wird die Veranstaltung auf das Frühjahr verschoben\nEndspurt zum Weihnachtsfest! \nWir gehen Billard spielen. Für Verpflegung ist gesorgt. \nDetails entnehmt ihr bitte der Ausschreibung Billard 2021. \nAnfahrtsbeschreibung: Anfahrt PBC Buffalos
URL:https://www.tclobster.de/event/weihnachts-billard-der-garnele/
LOCATION:PBC Buffalos e.V.\, Berliner Straße 39\, Berlin\, 13507\, Deutschland
CATEGORIES:Aktivität,Jugend
END:VEVENT
BEGIN:VEVENT
DTSTART;TZID=Europe/Berlin:20210827T160000
DTEND;TZID=Europe/Berlin:20210829T200000
DTSTAMP:20260420T133121
CREATED:20210623T130246Z
LAST-MODIFIED:20210623T130302Z
UID:744-1630080000-1630267200@www.tclobster.de
SUMMARY:Jugendfahrt zum Tauchsee Horka
DESCRIPTION:Endlich ist es so weit\, das Training ist wieder gestartet und wir dürfen wieder Vereinsfahrten anbieten. Ein großes Dankeschön geht an alle\, die diese Durststrecke mit uns durchgestanden haben. \nVom 27.8-29.8. fahren wir mit dem DUC zusammen an den Tauchsee Horka\, in dem es sich prima tauchen & schnorcheln lässt. \nAls kleines Dankeschön wird die Fahrt zum reduzierten Preis von nur 25 € pro Person angeboten und beinhaltet – wie immer – Fahrtkosten\, Übernachtung\, Ausrüstung\, Luft und Verpflegung. \nDie Details entnehmt ihr der Ausschreibung Jugendfahrt Horka 2021.
URL:https://www.tclobster.de/event/jugendfahrt-zum-tauchsee-horka/
LOCATION:Tauchsee Horka\, Steinbruch 9\, Crostwitz\, 01920\, Deutschland
CATEGORIES:Jugend
END:VEVENT
BEGIN:VEVENT
DTSTART;TZID=Europe/Berlin:20201101T090000
DTEND;TZID=Europe/Berlin:20201101T170000
DTSTAMP:20260420T133121
CREATED:20200302T063042Z
LAST-MODIFIED:20200302T063042Z
UID:661-1604221200-1604250000@www.tclobster.de
SUMMARY:AK HLW 2020
DESCRIPTION:Im Aufbaukurs „Herz-Lungen-Wiederbelebung“ wirst du in Theorie und Praxis in Bezug auf Notfälle insbesondere beim Sporttauchen ausgebildet. \n  \nDu erlernst dabei das Feststellen des Bewusstseins\, die Kontrolle der Atmung\, das Herstellen der stabilen Seitenlage und als Schwerpunkt die Herz-Lungen-Wiederbelebung einschließlich Einsatz eines AED und evtl. Sauerstoff beim Tauchunfall. \n  \nDie Fertigkeiten zur Reanimation sind für jede Ausbildungsstufe wichtig! \nAusschreibung und Anmeldung findest Du in der Ausschreibung -AK HLW 2020.
URL:https://www.tclobster.de/event/ak-hlw-2020/
LOCATION:DUC Berlin Clubhaus\, Deutscher Unterwasser-Club Berlin\, Scabellstr. 7\, Berlin\, 14109\, Deutschland
CATEGORIES:Ausbildung
END:VEVENT
BEGIN:VEVENT
DTSTART;TZID=Europe/Berlin:20201003T090000
DTEND;TZID=Europe/Berlin:20201004T180000
DTSTAMP:20260420T133121
CREATED:20200904T160436Z
LAST-MODIFIED:20200904T163958Z
UID:683-1601715600-1601834400@www.tclobster.de
SUMMARY:VDST DTSA * Kurs 03.-04. Oktober
DESCRIPTION:Im VDST DTSA* Theorie-Kurs lernt ihr alle wichtigen Theorie-Grundlagen zum Tauchsport.\nAn dem Theorie-Wochenende vermitteln wir euch neben der Freude und Begeisterung zum Tauchen\, die Ausbildungsinhalte Tauchphysik\, Tauchmedizin\, Tauchpraxis\, Tauchausrüstung und Inhalte zum umweltgerechten Tauchen. Der DTSA* Theorie-Kurs ist ein obligatorischer Bestandteil der VDST DTSA* – Ausbildung. \nAnmeldung DTSA Bronze Lobster Theorie 2020
URL:https://www.tclobster.de/event/vdst-dtsa-kurs-03-04-oktober/
LOCATION:smb Seemannschaft Berlin\, Am Pichelssee 7\, Berlin\, Berlin\, 13595\, Deutschland
CATEGORIES:Ausbildung,Training
ORGANIZER;CN="Thomas Waletzki":MAILTO:lobster@waletzki.eu
END:VEVENT
BEGIN:VEVENT
DTSTART;TZID=Europe/Berlin:20200809T160000
DTEND;TZID=Europe/Berlin:20200809T173000
DTSTAMP:20260420T133121
CREATED:20200803T163633Z
LAST-MODIFIED:20200803T172822Z
UID:674-1596988800-1596994200@www.tclobster.de
SUMMARY:Fit statt fett & faul
DESCRIPTION:Die Sommerferien gehen zu Ende und euer Lieblingssport findet wegen der Hallenschließung noch nicht wieder statt? Kein Problem\, mit der GARNELE bleibt ihr trotzdem fit. \nAlso legt die Controller in die Ecke und trefft euch zum ersten „Fit statt fett & faul“ mit den anderen Garnelen\, um euren Body wieder in Form zu bringen. \nWir haben folgendes mit euch vor \n\nJogging am\, um und auf den Hahneberg\nwahlweise auch (Nordic-)Walking (Nordic nur\, wenn ihr Stöcke mitbringt)\nStretching und Body Weight Übungen\n\nIhr benötigt mindestens folgende Dinge \n\ngenügend zu trinken\nein Handtuch/ eine Strandmatte für die Übungen\nSportkleidung\, je nach Wetter auch langärmelig\nein geeignetes Behältnis (Tasche\, Rucksack etc.) in das alle eure Dinge hineinpassen\, um sie während der Aufwärmphase in unserem Auto zwischenlagern zu können.\n\nBitte meldet euch rechtzeitig per Telefon bei Frank oder per E-Mail unter jugend@tclobster.de an\, dann können wir euch kontaktieren\, falls sich etwas verschiebt oder ausfällt. \nTreffpunkt \n\nSpandauer Mauergedekstätte (REWE Heerstr./Bergstr.)\, https://goo.gl/maps/8YetDgjF8QVaT5Ei9\nBusse M37 und M49 Station „Hahneberg“\nSonntag\, 9. August 2020\, 16 Uhr\nDauer ca. 90 Minuten\n\nAufgrund der Corona-Regelungen haben wir natürlich Hygienemaßnahmen zu beachten\, allerdings befinden wir uns unter freiem Himmel\, daher beschränken diese sich auf \n\nAbstand halten\nAlltagsmaske mitführen\, falls die Notwendigkeit zum Tragen entsteht\nDesinfektion nach eigenem Ermessen mitführen\n\nAlso – werden wir fit statt fett & faul!
URL:https://www.tclobster.de/event/fit-statt-fett-faul/
CATEGORIES:Jugend
END:VEVENT
BEGIN:VEVENT
DTSTART;TZID=Europe/Berlin:20200529T160000
DTEND;TZID=Europe/Berlin:20200601T190000
DTSTAMP:20260420T133121
CREATED:20200301T132112Z
LAST-MODIFIED:20200503T113326Z
UID:656-1590768000-1591038000@www.tclobster.de
SUMMARY:Tauchfahrt zum Horka
DESCRIPTION:[fällt leider wegen Covid-19 aus] \nAm diesjährigen Pfingstwochenende fährt die Garnele zum Tauchen an den Tauchsee Horka. \nDort erwartet uns eine abwechslungsreiche Unterwasserlandschaft. Die Details und das Anmeldeformular findet ihr in der Ausschreibung Jugendfahrt Horka 2020. \n 
URL:https://www.tclobster.de/event/tauchfahrt-zum-horka/
CATEGORIES:Jugend
END:VEVENT
BEGIN:VEVENT
DTSTART;TZID=Europe/Berlin:20191220T160000
DTEND;TZID=Europe/Berlin:20191220T190000
DTSTAMP:20260420T133121
CREATED:20190924T052953Z
LAST-MODIFIED:20191119T191835Z
UID:608-1576857600-1576868400@www.tclobster.de
SUMMARY:Weihnachtsfeier der Garnelen
DESCRIPTION:Jo is es denn scho Weihnachten?\nNoch nicht ganz\, aber bald. Deswegen wollen wir uns ganz in der Vorfreude auf dieses besinnliche Fest … \nQuatsch! Wir lassen es krachen\, und zwar in der Paintball-World Berlin Spandau. Für eine Stunde pfeifen uns dort die Farbkugeln um die Ohren und es gibt richtig Action.\nZu Weihnachten ist es ja bekanntlich kalt\, deswegen werden wir dem Wetter nach der Farbkugelschlacht im gemütlich beheizten Florida Eiscafé die Zunge herausstrecken und ein Eis schlecken. \nInfos und Anmeldeformular findet ihr hier Ausschreibung Weihnachtsfeier 2019
URL:https://www.tclobster.de/event/weihnachtsfeier-der-garnelen/
CATEGORIES:Jugend
END:VEVENT
BEGIN:VEVENT
DTSTART;TZID=Europe/Berlin:20191124T090000
DTEND;TZID=Europe/Berlin:20191124T170000
DTSTAMP:20260420T133121
CREATED:20191028T190800Z
LAST-MODIFIED:20191028T190808Z
UID:637-1574586000-1574614800@www.tclobster.de
SUMMARY:Aufbaukurs HLW
DESCRIPTION:Im Aufbaukurs „Herz-Lungen-Wiederbelebung“ wirst du in Theorie und Praxis in Bezug auf Notfälle insbesondere beim Sporttauchen ausgebildet. \nDu erlernst dabei das Feststellen des Bewusstseins\, die Kontrolle der Atmung\, das Herstellen der stabilen Seitenlage und als Schwerpunkt die Herz-Lungen-Wiederbelebung einschließlich Einsatz eines AED und evtl. Sauerstoff beim Tauchunfall. \nDie Fertigkeiten zur Reanimation sind für jede Ausbildungsstufe wichtig! \nAusschreibung & Anmeldung AK HLW
URL:https://www.tclobster.de/event/aufbaukurs-hlw/
LOCATION:DUC Berlin Clubhaus\, Deutscher Unterwasser-Club Berlin\, Scabellstr. 7\, Berlin\, 14109\, Deutschland
CATEGORIES:Ausbildung
END:VEVENT
BEGIN:VEVENT
DTSTART;TZID=Europe/Berlin:20191027T180000
DTEND;TZID=Europe/Berlin:20191027T193000
DTSTAMP:20260420T133121
CREATED:20191013T143626Z
LAST-MODIFIED:20191013T143626Z
UID:618-1572199200-1572204600@www.tclobster.de
SUMMARY:Gerätetauchen für Kids
DESCRIPTION:Hallo Tauch-Kids\, \nam Sonntag\, den 27.10.2019\, gibt es für alle tauchbegeisterten Kids des Lobster e.V. ein Gerätetauchen in unserer Trainingszeit von 18 bis ca. 19:30 Uhr. \nIhr benötigt nichts weiter außer eurer normalen ABC-Ausrüstung und einem T-Shirt\, was nass werden darf. \nBis zum Sonntag!
URL:https://www.tclobster.de/event/geraetetauchen-fuer-kids-2/
LOCATION:Stadtbad Spandau-Süd\, Gatower Str. 19\, Berlin\, 13595\, Deutschland
CATEGORIES:Jugend
END:VEVENT
END:VCALENDAR